BEGIN:VCALENDAR
VERSION:2.0
PRODID:-//Syndicat de l&#039;enseignement de Lanaudière - ECPv4.6.25//NONSGML v1.0//EN
CALSCALE:GREGORIAN
METHOD:PUBLISH
X-WR-CALNAME:Syndicat de l&#039;enseignement de Lanaudière
X-ORIGINAL-URL:http://sel.lacsq.org
X-WR-CALDESC:Évènements pour Syndicat de l&#039;enseignement de Lanaudière
BEGIN:VEVENT
DTSTART;TZID=America/Toronto:20231120T170000
DTEND;TZID=America/Toronto:20231120T210000
DTSTAMP:20260425T171817
CREATED:20231116T170032Z
LAST-MODIFIED:20231116T170032Z
UID:1124-1700499600-1700514000@sel.lacsq.org
SUMMARY:CG des personnes déléguées du SEL
DESCRIPTION:
URL:http://sel.lacsq.org/evenement/cg-des-personnes-deleguees-du-sel/
LOCATION:Salle Bosco\, 249\, chemin du Golf Est\, Saint-Charles-Borromée\, Québec\, J6E 8L1\, Canada
END:VEVENT
END:VCALENDAR