BEGIN:VCALENDAR
VERSION:2.0
PRODID:-//Syndicat de l&#039;enseignement de Lanaudière - ECPv4.6.25//NONSGML v1.0//EN
CALSCALE:GREGORIAN
METHOD:PUBLISH
X-WR-CALNAME:Syndicat de l&#039;enseignement de Lanaudière
X-ORIGINAL-URL:http://sel.lacsq.org
X-WR-CALDESC:Évènements pour Syndicat de l&#039;enseignement de Lanaudière
BEGIN:VEVENT
DTSTART;TZID=America/Toronto:20230220T170000
DTEND;TZID=America/Toronto:20230220T203000
DTSTAMP:20260425T185944
CREATED:20230203T144130Z
LAST-MODIFIED:20230203T153614Z
UID:1110-1676912400-1676925000@sel.lacsq.org
SUMMARY:Droits parentaux - Formation
DESCRIPTION:Vous êtes enceinte? Vous serez bientôt papa? Vous désirez adopter un enfant?\nVous avez notamment des droits prévus dans :\n– votre convention collective (droits parentaux);\n– le Régime québécois d’assurance parentale (RQAP);\n– la Loi sur la santé et la sécurité du travail (retrait préventif). \nSaviez-vous que…\n▪ les liens et les interactions entre votre convention collective et le RQAP sont parfois complexes?\n▪ dans certains cas\, les retraits préventifs ou les grossesses rapprochées peuvent avoir un effet sur\nvotre montant de prestations du RQAP?\n▪ une baisse de vos revenus d’emploi lors d’une période de chômage ou encore la précarité\nd’emploi de façon générale peuvent aussi avoir des effets indésirables sur vos prestations?\n▪ votre syndicat CSQ peut vous informer sur les moyens d’amoindrir ou d’annuler ces effets négatifs\n(par exemple\, les articles 31.1 ou 31.2 du RQAP ou le début anticipé d’une période de prestations)?\n▪ votre convention collective (tout comme la Loi sur les normes du travail) permet au père de\nprendre jusqu’à trois périodes de congé distinctes dans l’année suivant la naissance de son enfant? \nPour y voir plus clair\, le SEL\, en collaboration avec la CSQ et Mme Mélanie Michaud\, conseillère à la\nSécurité sociale à la CSQ\, vous invitent à une soirée d’information afin de faciliter la gestion de votre\ndossier et ainsi vous libérer l’esprit. \nComme il y aura un souper d’offert\, vous devez obligatoirement vous inscrire auprès d’Alexandra\nMailloux à amailloux@selcsq.net ou par téléphone au 450-753-4226 poste 226\, avant le 15 février\n16h30. Veuillez noter que si des restrictions alimentaires/allergies doivent nous être communiquées\,\nfaites-le en même temps que votre inscription s.v.p. \n
URL:http://sel.lacsq.org/evenement/droits-parentaux-formation/
LOCATION:Centre Alain Pagé\, 10 rue Pierre de Coubertin\, St-Charles-Borromée
END:VEVENT
END:VCALENDAR