BEGIN:VCALENDAR
VERSION:2.0
PRODID:-//Syndicat de l&#039;enseignement de Lanaudière - ECPv4.6.25//NONSGML v1.0//EN
CALSCALE:GREGORIAN
METHOD:PUBLISH
X-WR-CALNAME:Syndicat de l&#039;enseignement de Lanaudière
X-ORIGINAL-URL:http://sel.lacsq.org
X-WR-CALDESC:Évènements pour Syndicat de l&#039;enseignement de Lanaudière
BEGIN:VEVENT
DTSTART;TZID=America/Toronto:20221205T170000
DTEND;TZID=America/Toronto:20221205T170000
DTSTAMP:20260425T234844
CREATED:20221123T160937Z
LAST-MODIFIED:20221123T160937Z
UID:1086-1670259600-1670259600@sel.lacsq.org
SUMMARY:Formation pour les nouvelles enseignantes et les nouveaux enseignants (secteur des jeunes\, FP et FGA)
DESCRIPTION:Le Comité des jeunes du SEL est ravi de vous inviter à une soirée d’information visant à vous mettre à jour sur\nvos droits et vos devoirs relatifs à votre profession selon la convention collective en vigueur. On y traitera\nnotamment de contrats\, de paye et de congés. \nL’inscription est obligatoire auprès d’Alexandra Mailloux au amailloux@selcsq.net ou au 450-753-4226\, poste\n226 avant le 28 novembre 2022 pour que les repas puissent être réservés en quantité suffisante. \n
URL:http://sel.lacsq.org/evenement/formation-pour-les-nouvelles-enseignantes-et-les-nouveaux-enseignants-secteur-des-jeunes-fp-et-fga/
LOCATION:Centre Alain Pagé\, 10 rue Pierre de Coubertin\, St-Charles-Borromée
END:VEVENT
END:VCALENDAR