BEGIN:VCALENDAR
VERSION:2.0
PRODID:-//Syndicat de l&#039;enseignement de Lanaudière - ECPv4.6.25//NONSGML v1.0//EN
CALSCALE:GREGORIAN
METHOD:PUBLISH
X-WR-CALNAME:Syndicat de l&#039;enseignement de Lanaudière
X-ORIGINAL-URL:http://sel.lacsq.org
X-WR-CALDESC:Évènements pour Syndicat de l&#039;enseignement de Lanaudière
BEGIN:VEVENT
DTSTART;TZID=America/Toronto:20221212T170000
DTEND;TZID=America/Toronto:20221212T203000
DTSTAMP:20260425T220825
CREATED:20221123T162223Z
LAST-MODIFIED:20221123T162223Z
UID:1088-1670864400-1670877000@sel.lacsq.org
SUMMARY:Formation RREGOP (pour tous)
DESCRIPTION:Parce qu’il n’est jamais trop tôt pour s’occuper de sa retraite\, le Syndicat de l’enseignement du Lanaudière\norganise une soirée d’information sur votre fonds de pension qu’est le RREGOP. Cette formation s’adresse à\ntoutes les personnes\, et ce\, peu importe votre âge\, car il n’est jamais trop tôt pour être informé du\nfonctionnement de notre fonds de pension. Tous les aspects de celui-ci seront abordés tels que son\nfonctionnement\, les absences cotisées\, les absences à racheter (congé sans traitement\, congé de\nmaternité…)\, la retraite progressive et les autres diminutions de tâches en cours de carrière. \nVous devez vous inscrire auprès de Nathalie Gervais au plus tard le 28 novembre auprès de Nathalie\n(ngervais@selcsq.net ou 450-753-4226 poste 221) afin de nous permettre de prévoir la quantité de repas. \nNe pas confondre cette formation sur le RREGOP avec la session préparatoire à la retraite qui aura lieu les\n17 et 18 février et qui s’adresse aux personnes âgées de plus 52 ans qui sont à quelques années (2-3 ans) de\nleur retraite. \n
URL:http://sel.lacsq.org/evenement/formation-rregop-pour-tous-3/
LOCATION:Centre Alain Pagé\, 10 rue Pierre de Coubertin\, St-Charles-Borromée
END:VEVENT
END:VCALENDAR